BEGIN:VCALENDAR
VERSION:2.0
PRODID:spatie/icalendar-generator
DESCRIPTION:Events from Retail Therapy
X-WR-CALDESC:Events from Retail Therapy
REFRESH-INTERVAL;VALUE=DURATION:PT1440M
X-PUBLISHED-TTL:PT1440M
BEGIN:VTIMEZONE
TZID:America/Indiana/Indianapolis
BEGIN:DAYLIGHT
DTSTART:20220313T020000Z
TZOFFSETFROM:-0500
TZOFFSETTO:-0400
END:DAYLIGHT
BEGIN:STANDARD
DTSTART:20221106T020000Z
TZOFFSETFROM:-0400
TZOFFSETTO:-0500
END:STANDARD
BEGIN:DAYLIGHT
DTSTART:20230312T020000Z
TZOFFSETFROM:-0500
TZOFFSETTO:-0400
END:DAYLIGHT
END:VTIMEZONE
BEGIN:VTIMEZONE
TZID:UTC
BEGIN:STANDARD
DTSTART:20250727T083040Z
TZOFFSETFROM:+0000
TZOFFSETTO:+0000
END:STANDARD
END:VTIMEZONE
BEGIN:VEVENT
UID:2-2
DTSTAMP:20260423T083040Z
SUMMARY:Test Event
LOCATION:
ORGANIZER;CN=Treefrog Marketing:MAILTO:madkins@treefrogmarketing.com
DTSTART;TZID=America/Indiana/Indianapolis:20220928T175500
DTEND;TZID=America/Indiana/Indianapolis:20220928T195600
X-ALT-DESC;FMTTYPE=TEXT/HTML:This is the event description.
CATEGORIES:General
URL;VALUE=URI:https://www.retailtherapylafayette.com/mc-events/test-event/
METHOD:PUBLISH
END:VEVENT
END:VCALENDAR